BEGIN:VCALENDAR
VERSION:2.0
PRODID:-//Saint Intelligence - ECPv6.15.20//NONSGML v1.0//EN
CALSCALE:GREGORIAN
METHOD:PUBLISH
X-WR-CALNAME:Saint Intelligence
X-ORIGINAL-URL:https://saintintelligence.com
X-WR-CALDESC:Eventos para Saint Intelligence
REFRESH-INTERVAL;VALUE=DURATION:PT1H
X-Robots-Tag:noindex
X-PUBLISHED-TTL:PT1H
BEGIN:VTIMEZONE
TZID:Europe/Helsinki
BEGIN:DAYLIGHT
TZOFFSETFROM:+0200
TZOFFSETTO:+0300
TZNAME:EEST
DTSTART:20240331T010000
END:DAYLIGHT
BEGIN:STANDARD
TZOFFSETFROM:+0300
TZOFFSETTO:+0200
TZNAME:EET
DTSTART:20241027T010000
END:STANDARD
BEGIN:DAYLIGHT
TZOFFSETFROM:+0200
TZOFFSETTO:+0300
TZNAME:EEST
DTSTART:20250330T010000
END:DAYLIGHT
BEGIN:STANDARD
TZOFFSETFROM:+0300
TZOFFSETTO:+0200
TZNAME:EET
DTSTART:20251026T010000
END:STANDARD
BEGIN:DAYLIGHT
TZOFFSETFROM:+0200
TZOFFSETTO:+0300
TZNAME:EEST
DTSTART:20260329T010000
END:DAYLIGHT
BEGIN:STANDARD
TZOFFSETFROM:+0300
TZOFFSETTO:+0200
TZNAME:EET
DTSTART:20261025T010000
END:STANDARD
END:VTIMEZONE
BEGIN:VEVENT
DTSTART;TZID=Europe/Helsinki:20251026T080000
DTEND;TZID=Europe/Helsinki:20251026T170000
DTSTAMP:20260420T135130
CREATED:20251026T111921Z
LAST-MODIFIED:20251026T111921Z
UID:2098-1761465600-1761498000@saintintelligence.com
SUMMARY:Aplicaciones de IA para Ciberseguridad
DESCRIPTION:La Inteligencia Artificial (IA) está revolucionando la ciberseguridad. La rápida evolución de esta tecnología no solo transforma la detección automatizada de amenazas\, sino que optimiza la respuesta inteligente ante incidentes de seguridad. Las soluciones basadas en IA para ciberseguridad son clave para proteger sistemas y datos sensibles de manera proactiva. \nParticipa en esta jornada práctica y aprende a implementar modelos de Inteligencia Artificial y LLMs (Grandes Modelos de Lenguaje). Descubrirás estrategias avanzadas para anticipar ciberataques\, mejorar la detección de amenazas y optimizar la respuesta a ciberamenazas de forma eficiente. No te quedes atrás en la transformación digital de la seguridad. \n \n  \nPrograma\n10:00 – 10:05  Bienvenida e introducción\n10:05 – 10:25  Contexto tecnológico\n10:25 – 10:45  Tecnologías actuales\n10:45 – 11:30  CAI (Cybersecurity AI) – Framework abierto para ciberseguridad\n11:30 – 12:00  Modelos de ciberseguridad (LLMs) y como usarlos eficientemente.\n12:00 – 12:30  Pausa café\n12:30 – 13:00  Demostraciones prácticas\n13:00 – 13:20  Preguntas y cierre
URL:https://saintintelligence.com/evento/aplicaciones-de-ia-para-ciberseguridad
LOCATION:Araba enpresa digitala\, BIC Araba\, aula "Ada Lovelace" (Albert Einstein 15\, Parque Tecnológico de Álava.\, Vitoria\, Alava\, España
ORGANIZER;CN="SPRI":MAILTO:apuntaeuskadinnova@spri.eus
END:VEVENT
END:VCALENDAR