BEGIN:VCALENDAR
VERSION:2.0
PRODID:-//Saint Intelligence - ECPv6.15.20//NONSGML v1.0//EN
CALSCALE:GREGORIAN
METHOD:PUBLISH
X-ORIGINAL-URL:https://saintintelligence.com
X-WR-CALDESC:Eventos para Saint Intelligence
REFRESH-INTERVAL;VALUE=DURATION:PT1H
X-Robots-Tag:noindex
X-PUBLISHED-TTL:PT1H
BEGIN:VTIMEZONE
TZID:Europe/Helsinki
BEGIN:DAYLIGHT
TZOFFSETFROM:+0200
TZOFFSETTO:+0300
TZNAME:EEST
DTSTART:20220327T010000
END:DAYLIGHT
BEGIN:STANDARD
TZOFFSETFROM:+0300
TZOFFSETTO:+0200
TZNAME:EET
DTSTART:20221030T010000
END:STANDARD
BEGIN:DAYLIGHT
TZOFFSETFROM:+0200
TZOFFSETTO:+0300
TZNAME:EEST
DTSTART:20230326T010000
END:DAYLIGHT
BEGIN:STANDARD
TZOFFSETFROM:+0300
TZOFFSETTO:+0200
TZNAME:EET
DTSTART:20231029T010000
END:STANDARD
BEGIN:DAYLIGHT
TZOFFSETFROM:+0200
TZOFFSETTO:+0300
TZNAME:EEST
DTSTART:20240331T010000
END:DAYLIGHT
BEGIN:STANDARD
TZOFFSETFROM:+0300
TZOFFSETTO:+0200
TZNAME:EET
DTSTART:20241027T010000
END:STANDARD
END:VTIMEZONE
BEGIN:VEVENT
DTSTART;TZID=Europe/Helsinki:20231218T093000
DTEND;TZID=Europe/Helsinki:20231218T110000
DTSTAMP:20260420T153435
CREATED:20231119T085403Z
LAST-MODIFIED:20231119T085403Z
UID:2031-1702891800-1702897200@saintintelligence.com
SUMMARY:Conoce los riesgos de las IAs como ChatGPT
DESCRIPTION:Los recientes avances en sistemas de inteligencia artificial conversacional como ChatGPT plantean nuevos desafíos y riesgos que debemos abordar de manera responsable. Por ello\, se analizaran estos riesgos potenciales\, como la generación de contenidos falsos o tendenciosos\, sesgos en las respuestas\, o problemas de seguridad y privacidad de los datos. \n\n\nAsimismo\, se plantearan una serie de buenas prácticas y medidas de seguridad que podemos implementar para mitigar estos riesgos. Entre otros temas\, se verá cómo detectar respuestas sesgadas o falsas\, cómo validar las fuentes de información\, y el estado actual y futuro de la regulación de estos sistemas de IA. \n\nTemario\n\nIntroducción.\nRiesgos de seguridad asociados al uso de herramientas de IA como ChatGPT:\n\nPrivacidad de los datos y confidencialidad de la información.\nManipulación de información y desinformación.\nVulnerabilidad frente a ataques cibernéticos.\nSuplantación de identidad.\nConoce los riesgos de las IAs como ChatGPT 2\nPhising.\nOtros.\n\n\nLegislación.\nMedidas de seguridad para proteger la información.\nMejores prácticas y medidas para limitar los riesgos.\nConclusiones.
URL:https://saintintelligence.com/evento/conoce-los-riesgos-de-las-ias-como-chatgpt
LOCATION:Online
ORGANIZER;CN="SPRI":MAILTO:apuntaeuskadinnova@spri.eus
END:VEVENT
END:VCALENDAR